BEGIN:VCALENDAR
VERSION:2.0
PRODID:-//Axla Agent//AI Events//JA
CALSCALE:GREGORIAN
METHOD:PUBLISH
X-WR-CALNAME:Axla Agent - AIイベント
X-WR-TIMEZONE:Asia/Tokyo
BEGIN:VTIMEZONE
TZID:Asia/Tokyo
X-LIC-LOCATION:Asia/Tokyo
BEGIN:STANDARD
DTSTART:19700101T000000
TZOFFSETFROM:+0900
TZOFFSETTO:+0900
TZNAME:JST
END:STANDARD
END:VTIMEZONE
BEGIN:VEVENT
UID:evt-0009@axla-agent
DTSTAMP:20260425T150251Z
DTSTART:20260507T064924Z
DTEND:20260507T074924Z
SUMMARY:AIアート夜会
DESCRIPTION:AIで作ったアート作品を持ち寄って鑑賞する夜会。
LOCATION:原宿\, 東京都
URL:https://accelerator-agent.com/events/ai-art-yakai
END:VEVENT
BEGIN:VEVENT
UID:evt-0001@axla-agent
DTSTAMP:20260425T150251Z
DTSTART:20260509T064924Z
DTEND:20260511T064924Z
SUMMARY:AI Agent Hackathon Tokyo 2026
DESCRIPTION:48時間でAIエージェントをゼロから作るハッカソン。優勝賞金100万円。
LOCATION:東京ミッドタウン\, 東京都
URL:https://accelerator-agent.com/events/ai-agent-hackathon-tokyo-2026
END:VEVENT
BEGIN:VEVENT
UID:evt-0005@axla-agent
DTSTAMP:20260425T150251Z
DTSTART:20260515T064924Z
DTEND:20260515T064924Z
SUMMARY:Indie Hackers Meetup Tokyo
DESCRIPTION:個人開発者同士のリアルMeetup。飲食付き、名刺交換。
LOCATION:渋谷スクランブルスクエア\, 東京都
URL:https://accelerator-agent.com/events/ih-meetup-tokyo
END:VEVENT
END:VCALENDAR