BEGIN:VCALENDAR
VERSION:2.0
PRODID:-//Axla Agent//AI Events//JA
CALSCALE:GREGORIAN
METHOD:PUBLISH
X-WR-CALNAME:Axla Agent - AIイベント
X-WR-TIMEZONE:Asia/Tokyo
BEGIN:VTIMEZONE
TZID:Asia/Tokyo
X-LIC-LOCATION:Asia/Tokyo
BEGIN:STANDARD
DTSTART:19700101T000000
TZOFFSETFROM:+0900
TZOFFSETTO:+0900
TZNAME:JST
END:STANDARD
END:VTIMEZONE
BEGIN:VEVENT
UID:evt-0010@axla-agent
DTSTAMP:20260425T163718Z
DTSTART:20260609T064924Z
DTEND:20260610T064924Z
SUMMARY:AI × ビジネス カンファレンス 2026
DESCRIPTION:AI を企業に組み込んだ事例40件が一堂に会する年1回のカンファレンス。
LOCATION:ベルサール六本木\, 東京都
URL:https://accelerator-agent.com/events/ai-biz-conf-2026
END:VEVENT
END:VCALENDAR