BEGIN:VCALENDAR
VERSION:2.0
PRODID:-//Axla Agent//AI Events//JA
CALSCALE:GREGORIAN
METHOD:PUBLISH
X-WR-CALNAME:Axla Agent - AIイベント
X-WR-TIMEZONE:Asia/Tokyo
BEGIN:VTIMEZONE
TZID:Asia/Tokyo
X-LIC-LOCATION:Asia/Tokyo
BEGIN:STANDARD
DTSTART:19700101T000000
TZOFFSETFROM:+0900
TZOFFSETTO:+0900
TZNAME:JST
END:STANDARD
END:VTIMEZONE
BEGIN:VEVENT
UID:evt-0002@axla-agent
DTSTAMP:20260425T132934Z
DTSTART:20260428T064924Z
DTEND:20260428T064924Z
SUMMARY:Claude Code 実践ウェビナー
DESCRIPTION:Claude Code の Skill・Hook・Subagent を1時間で理解するウェビナー。
LOCATION:Online
URL:https://accelerator-agent.com/events/claude-code-webinar
END:VEVENT
END:VCALENDAR