BEGIN:VCALENDAR
VERSION:2.0
PRODID:-//Axla Agent//AI Events//JA
CALSCALE:GREGORIAN
METHOD:PUBLISH
X-WR-CALNAME:Axla Agent - AIイベント
X-WR-TIMEZONE:Asia/Tokyo
BEGIN:VTIMEZONE
TZID:Asia/Tokyo
X-LIC-LOCATION:Asia/Tokyo
BEGIN:STANDARD
DTSTART:19700101T000000
TZOFFSETFROM:+0900
TZOFFSETTO:+0900
TZNAME:JST
END:STANDARD
END:VTIMEZONE
BEGIN:VEVENT
UID:evt-0007@axla-agent
DTSTAMP:20260425T151820Z
DTSTART:20260501T064924Z
DTEND:20260501T074924Z
SUMMARY:Cursor Power Users Online Meetup
DESCRIPTION:Cursor をフル活用するユーザー向けのトーク＆Q&Aセッション。
LOCATION:Online
URL:https://accelerator-agent.com/events/cursor-power-meetup
END:VEVENT
BEGIN:VEVENT
UID:evt-0004@axla-agent
DTSTAMP:20260425T151820Z
DTSTART:20260505T064924Z
DTEND:20260505T064924Z
SUMMARY:RAG 実装パターン Deep Dive
DESCRIPTION:本番投入されているRAGパターン3種を2時間で比較検証するハンズオン。
LOCATION:Online
URL:https://accelerator-agent.com/events/rag-deep-dive
END:VEVENT
END:VCALENDAR